Package: transite Version: 1.10.0 Command: chmod a+r transite -R && C:\Users\biocbuild\bbs-3.13-bioc\R\bin\R.exe CMD build --keep-empty-dirs --no-resave-data transite StartedAt: 2021-10-14 18:52:27 -0400 (Thu, 14 Oct 2021) EndedAt: 2021-10-14 18:53:16 -0400 (Thu, 14 Oct 2021) EllapsedTime: 49.0 seconds RetCode: 0 Status: OK PackageFile: transite_1.10.0.tar.gz PackageFileSize: 610.4 KiB