Package: traseR Version: 1.22.0 Command: /home/biocbuild/bbs-3.13-bioc/R/bin/R CMD check --install=check:traseR.install-out.txt --library=/home/biocbuild/bbs-3.13-bioc/R/library --no-vignettes --timings traseR_1.22.0.tar.gz StartedAt: 2021-10-14 11:55:48 -0400 (Thu, 14 Oct 2021) EndedAt: 2021-10-14 11:59:46 -0400 (Thu, 14 Oct 2021) EllapsedTime: 237.7 seconds RetCode: 0 Status: OK CheckDir: traseR.Rcheck Warnings: 0