Package: treekoR Version: 1.0.0 Command: rm -rf treekoR.buildbin-libdir && mkdir treekoR.buildbin-libdir && /Users/biocbuild/BBS/utils/build-universal.sh treekoR_1.0.0.tar.gz /Library/Frameworks/R.framework/Versions/Current/Resources/bin/R treekoR.buildbin-libdir StartedAt: 2021-10-15 04:17:17 -0400 (Fri, 15 Oct 2021) EndedAt: 2021-10-15 04:18:28 -0400 (Fri, 15 Oct 2021) EllapsedTime: 71.0 seconds RetCode: 0 Status: OK PackageFile: treekoR_1.0.0.tgz PackageFileSize: 1.521 MiB