git_url: https://git.bioconductor.org/packages/tricycle git_branch: RELEASE_3_13 git_last_commit: 0586b67 git_last_commit_date: 2021-05-19 13:02:06 -0400 (Wed, 19 May 2021) Package: tricycle Version: 1.0.0 Maintainer: Shijie Zheng MaintainerEmail: shijieczheng at gmail.com