Package: tricycle Version: 1.0.0 Command: /Library/Frameworks/R.framework/Versions/Current/Resources/bin/R CMD INSTALL tricycle StartedAt: 2021-10-14 09:29:42 -0400 (Thu, 14 Oct 2021) EndedAt: 2021-10-14 09:30:37 -0400 (Thu, 14 Oct 2021) EllapsedTime: 54.8 seconds RetCode: 0 Status: OK