Package: tricycle Version: 1.0.0 Command: rm -rf tricycle.buildbin-libdir && mkdir tricycle.buildbin-libdir && C:\Users\biocbuild\bbs-3.13-bioc\R\bin\R.exe CMD INSTALL --merge-multiarch --build --library=tricycle.buildbin-libdir tricycle_1.0.0.tar.gz StartedAt: 2021-10-15 12:17:09 -0400 (Fri, 15 Oct 2021) EndedAt: 2021-10-15 12:18:41 -0400 (Fri, 15 Oct 2021) EllapsedTime: 92.3 seconds RetCode: 0 Status: OK PackageFile: tricycle_1.0.0.zip PackageFileSize: 3.69 MiB