Package: trigger Version: 1.38.0 Command: /Library/Frameworks/R.framework/Versions/Current/Resources/bin/R CMD build --keep-empty-dirs --no-resave-data trigger StartedAt: 2021-10-14 15:26:15 -0400 (Thu, 14 Oct 2021) EndedAt: 2021-10-14 15:29:05 -0400 (Thu, 14 Oct 2021) EllapsedTime: 169.9 seconds RetCode: 0 Status: OK PackageFile: trigger_1.38.0.tar.gz PackageFileSize: 1.734 MiB