Package: trigger Version: 1.38.0 Command: chmod a+r trigger -R && C:\Users\biocbuild\bbs-3.13-bioc\R\bin\R.exe CMD build --keep-empty-dirs --no-resave-data trigger StartedAt: 2021-10-14 18:55:24 -0400 (Thu, 14 Oct 2021) EndedAt: 2021-10-14 18:58:16 -0400 (Thu, 14 Oct 2021) EllapsedTime: 172.1 seconds RetCode: 0 Status: OK PackageFile: trigger_1.38.0.tar.gz PackageFileSize: 1.746 MiB