Package: trigger Version: 1.38.0 Command: C:\Users\biocbuild\bbs-3.13-bioc\R\bin\R.exe CMD check --force-multiarch --install=check:trigger.install-out.txt --library=C:\Users\biocbuild\bbs-3.13-bioc\R\library --no-vignettes --timings trigger_1.38.0.tar.gz StartedAt: 2021-10-15 06:56:14 -0400 (Fri, 15 Oct 2021) EndedAt: 2021-10-15 07:01:03 -0400 (Fri, 15 Oct 2021) EllapsedTime: 288.7 seconds RetCode: 0 Status: OK CheckDir: trigger.Rcheck Warnings: 0