git_url: https://git.bioconductor.org/packages/trio git_branch: RELEASE_3_13 git_last_commit: 0ed315f git_last_commit_date: 2021-05-19 12:00:07 -0400 (Wed, 19 May 2021) Package: trio Version: 3.30.0 Maintainer: Holger Schwender MaintainerEmail: holger.schw at gmx.de