Package: trio Version: 3.30.0 Command: rm -rf trio.buildbin-libdir && mkdir trio.buildbin-libdir && C:\Users\biocbuild\bbs-3.13-bioc\R\bin\R.exe CMD INSTALL --merge-multiarch --build --library=trio.buildbin-libdir trio_3.30.0.tar.gz StartedAt: 2021-10-15 12:17:26 -0400 (Fri, 15 Oct 2021) EndedAt: 2021-10-15 12:18:58 -0400 (Fri, 15 Oct 2021) EllapsedTime: 91.8 seconds RetCode: 0 Status: OK PackageFile: trio_3.30.0.zip PackageFileSize: 1.65 MiB