Package: trio Version: 3.30.0 Command: C:\Users\biocbuild\bbs-3.13-bioc\R\bin\R.exe CMD check --force-multiarch --install=check:trio.install-out.txt --library=C:\Users\biocbuild\bbs-3.13-bioc\R\library --no-vignettes --timings trio_3.30.0.tar.gz StartedAt: 2021-10-15 06:57:17 -0400 (Fri, 15 Oct 2021) EndedAt: 2021-10-15 07:01:18 -0400 (Fri, 15 Oct 2021) EllapsedTime: 240.5 seconds RetCode: 0 Status: OK CheckDir: trio.Rcheck Warnings: 0