git_url: https://git.bioconductor.org/packages/tscR git_branch: RELEASE_3_13 git_last_commit: b8f82b0 git_last_commit_date: 2021-05-19 12:49:54 -0400 (Wed, 19 May 2021) Package: tscR Version: 1.4.0 Maintainer: PĂ©rez-Sanz, Fernando MaintainerEmail: fernando.perez8 at um.es