Package: tscR Version: 1.4.0 Command: /Library/Frameworks/R.framework/Versions/Current/Resources/bin/R CMD check --install=check:tscR.install-out.txt --library=/Library/Frameworks/R.framework/Versions/Current/Resources/library --no-vignettes --timings tscR_1.4.0.tar.gz StartedAt: 2021-10-15 00:59:50 -0400 (Fri, 15 Oct 2021) EndedAt: 2021-10-15 01:04:01 -0400 (Fri, 15 Oct 2021) EllapsedTime: 251.2 seconds RetCode: 0 Status: OK CheckDir: tscR.Rcheck Warnings: 0