Package: tspair Version: 1.50.0 Command: chmod a+r tspair -R && C:\Users\biocbuild\bbs-3.13-bioc\R\bin\R.exe CMD build --keep-empty-dirs --no-resave-data tspair StartedAt: 2021-10-14 18:57:31 -0400 (Thu, 14 Oct 2021) EndedAt: 2021-10-14 18:57:51 -0400 (Thu, 14 Oct 2021) EllapsedTime: 20.0 seconds RetCode: 0 Status: OK PackageFile: tspair_1.50.0.tar.gz PackageFileSize: 634.3 KiB