Package: tspair Version: 1.50.0 Command: C:\Users\biocbuild\bbs-3.13-bioc\R\bin\R.exe CMD check --force-multiarch --install=check:tspair.install-out.txt --library=C:\Users\biocbuild\bbs-3.13-bioc\R\library --no-vignettes --timings tspair_1.50.0.tar.gz StartedAt: 2021-10-15 07:01:11 -0400 (Fri, 15 Oct 2021) EndedAt: 2021-10-15 07:01:57 -0400 (Fri, 15 Oct 2021) EllapsedTime: 46.0 seconds RetCode: 0 Status: OK CheckDir: tspair.Rcheck Warnings: 0