Package: twoddpcr Version: 1.16.0 Command: rm -rf twoddpcr.buildbin-libdir && mkdir twoddpcr.buildbin-libdir && /Users/biocbuild/BBS/utils/build-universal.sh twoddpcr_1.16.0.tar.gz /Library/Frameworks/R.framework/Versions/Current/Resources/bin/R twoddpcr.buildbin-libdir StartedAt: 2021-10-15 04:19:12 -0400 (Fri, 15 Oct 2021) EndedAt: 2021-10-15 04:20:22 -0400 (Fri, 15 Oct 2021) EllapsedTime: 70.5 seconds RetCode: 0 Status: OK PackageFile: twoddpcr_1.16.0.tgz PackageFileSize: 4.549 MiB