git_url: https://git.bioconductor.org/packages/variancePartition git_branch: RELEASE_3_13 git_last_commit: 25d1f1e git_last_commit_date: 2021-05-19 12:14:52 -0400 (Wed, 19 May 2021) Package: variancePartition Version: 1.22.0 Maintainer: Gabriel E. Hoffman MaintainerEmail: gabriel.hoffman at mssm.edu