Package: variancePartition Version: 1.22.0 Command: rm -rf variancePartition.buildbin-libdir && mkdir variancePartition.buildbin-libdir && /Users/biocbuild/BBS/utils/build-universal.sh variancePartition_1.22.0.tar.gz /Library/Frameworks/R.framework/Versions/Current/Resources/bin/R variancePartition.buildbin-libdir StartedAt: 2021-10-15 04:20:33 -0400 (Fri, 15 Oct 2021) EndedAt: 2021-10-15 04:21:37 -0400 (Fri, 15 Oct 2021) EllapsedTime: 64.3 seconds RetCode: 0 Status: OK PackageFile: variancePartition_1.22.0.tgz PackageFileSize: 3.331 MiB