Package: variancePartition Version: 1.22.0 Command: /Library/Frameworks/R.framework/Versions/Current/Resources/bin/R CMD build --keep-empty-dirs --no-resave-data variancePartition StartedAt: 2021-10-14 15:32:54 -0400 (Thu, 14 Oct 2021) EndedAt: 2021-10-14 15:49:20 -0400 (Thu, 14 Oct 2021) EllapsedTime: 986.4 seconds RetCode: 0 Status: OK PackageFile: variancePartition_1.22.0.tar.gz PackageFileSize: 2.983 MiB