Package: variancePartition Version: 1.22.0 Command: /home/biocbuild/bbs-3.13-bioc/R/bin/R CMD check --install=check:variancePartition.install-out.txt --library=/home/biocbuild/bbs-3.13-bioc/R/library --no-vignettes --timings variancePartition_1.22.0.tar.gz StartedAt: 2021-10-14 11:59:47 -0400 (Thu, 14 Oct 2021) EndedAt: 2021-10-14 12:06:39 -0400 (Thu, 14 Oct 2021) EllapsedTime: 411.3 seconds RetCode: 0 Status: OK CheckDir: variancePartition.Rcheck Warnings: 0