Package: variancePartition Version: 1.22.0 Command: rm -rf variancePartition.buildbin-libdir && mkdir variancePartition.buildbin-libdir && C:\Users\biocbuild\bbs-3.13-bioc\R\bin\R.exe CMD INSTALL --merge-multiarch --build --library=variancePartition.buildbin-libdir variancePartition_1.22.0.tar.gz StartedAt: 2021-10-15 12:21:24 -0400 (Fri, 15 Oct 2021) EndedAt: 2021-10-15 12:22:47 -0400 (Fri, 15 Oct 2021) EllapsedTime: 83.0 seconds RetCode: 0 Status: OK PackageFile: variancePartition_1.22.0.zip PackageFileSize: 3.291 MiB