Package: variancePartition Version: 1.22.0 Command: chmod a+r variancePartition -R && C:\Users\biocbuild\bbs-3.13-bioc\R\bin\R.exe CMD build --keep-empty-dirs --no-resave-data variancePartition StartedAt: 2021-10-14 19:02:13 -0400 (Thu, 14 Oct 2021) EndedAt: 2021-10-14 19:18:11 -0400 (Thu, 14 Oct 2021) EllapsedTime: 958.1 seconds RetCode: 0 Status: OK PackageFile: variancePartition_1.22.0.tar.gz PackageFileSize: 2.845 MiB