Package: variancePartition Version: 1.22.0 Command: C:\cygwin\bin\curl.exe -O http://155.52.207.165/BBS/3.13/bioc/src/contrib/variancePartition_1.22.0.tar.gz && rm -rf variancePartition.buildbin-libdir && mkdir variancePartition.buildbin-libdir && C:\Users\biocbuild\bbs-3.13-bioc\R\bin\R.exe CMD INSTALL --merge-multiarch --build --library=variancePartition.buildbin-libdir variancePartition_1.22.0.tar.gz && C:\Users\biocbuild\bbs-3.13-bioc\R\bin\R.exe CMD INSTALL variancePartition_1.22.0.zip && rm variancePartition_1.22.0.tar.gz variancePartition_1.22.0.zip StartedAt: 2021-10-14 09:51:44 -0400 (Thu, 14 Oct 2021) EndedAt: 2021-10-14 09:53:04 -0400 (Thu, 14 Oct 2021) EllapsedTime: 80.0 seconds RetCode: 0 Status: OK