git_url: https://git.bioconductor.org/packages/viper git_branch: RELEASE_3_13 git_last_commit: 1c52a94 git_last_commit_date: 2021-05-19 12:03:49 -0400 (Wed, 19 May 2021) Package: viper Version: 1.26.0 Maintainer: Mariano J Alvarez MaintainerEmail: reef103 at gmail.com