Package: viper Version: 1.26.0 Command: rm -rf viper.buildbin-libdir && mkdir viper.buildbin-libdir && /Users/biocbuild/BBS/utils/build-universal.sh viper_1.26.0.tar.gz /Library/Frameworks/R.framework/Versions/Current/Resources/bin/R viper.buildbin-libdir StartedAt: 2021-10-15 04:21:43 -0400 (Fri, 15 Oct 2021) EndedAt: 2021-10-15 04:22:42 -0400 (Fri, 15 Oct 2021) EllapsedTime: 58.9 seconds RetCode: 0 Status: OK PackageFile: viper_1.26.0.tgz PackageFileSize: 621.3 KiB