Package: viper Version: 1.26.0 Command: rm -rf viper.buildbin-libdir && mkdir viper.buildbin-libdir && C:\Users\biocbuild\bbs-3.13-bioc\R\bin\R.exe CMD INSTALL --merge-multiarch --build --library=viper.buildbin-libdir viper_1.26.0.tar.gz StartedAt: 2021-10-15 12:23:13 -0400 (Fri, 15 Oct 2021) EndedAt: 2021-10-15 12:24:39 -0400 (Fri, 15 Oct 2021) EllapsedTime: 86.2 seconds RetCode: 0 Status: OK PackageFile: viper_1.26.0.zip PackageFileSize: 706.3 KiB