Package: viper Version: 1.26.0 Command: chmod a+r viper -R && C:\Users\biocbuild\bbs-3.13-bioc\R\bin\R.exe CMD build --keep-empty-dirs --no-resave-data viper StartedAt: 2021-10-14 19:05:23 -0400 (Thu, 14 Oct 2021) EndedAt: 2021-10-14 19:09:13 -0400 (Thu, 14 Oct 2021) EllapsedTime: 230.0 seconds RetCode: 0 Status: OK PackageFile: viper_1.26.0.tar.gz PackageFileSize: 377.3 KiB