Package: vsn Version: 3.60.0 Command: /Library/Frameworks/R.framework/Versions/Current/Resources/bin/R CMD build --keep-empty-dirs --no-resave-data vsn StartedAt: 2021-10-14 15:37:17 -0400 (Thu, 14 Oct 2021) EndedAt: 2021-10-14 15:38:20 -0400 (Thu, 14 Oct 2021) EllapsedTime: 62.5 seconds RetCode: 0 Status: OK PackageFile: vsn_3.60.0.tar.gz PackageFileSize: 1.747 MiB