Package: vsn Version: 3.60.0 Command: /Library/Frameworks/R.framework/Versions/Current/Resources/bin/R CMD check --install=check:vsn.install-out.txt --library=/Library/Frameworks/R.framework/Versions/Current/Resources/library --no-vignettes --timings vsn_3.60.0.tar.gz StartedAt: 2021-10-15 01:10:49 -0400 (Fri, 15 Oct 2021) EndedAt: 2021-10-15 01:12:14 -0400 (Fri, 15 Oct 2021) EllapsedTime: 84.9 seconds RetCode: 0 Status: OK CheckDir: vsn.Rcheck Warnings: 0