Package: vsn Version: 3.60.0 Command: rm -rf vsn.buildbin-libdir && mkdir vsn.buildbin-libdir && C:\Users\biocbuild\bbs-3.13-bioc\R\bin\R.exe CMD INSTALL --merge-multiarch --build --library=vsn.buildbin-libdir vsn_3.60.0.tar.gz StartedAt: 2021-10-15 12:23:47 -0400 (Fri, 15 Oct 2021) EndedAt: 2021-10-15 12:25:24 -0400 (Fri, 15 Oct 2021) EllapsedTime: 97.0 seconds RetCode: 0 Status: OK PackageFile: vsn_3.60.0.zip PackageFileSize: 1.575 MiB