Package: vsn Version: 3.60.0 Command: chmod a+r vsn -R && C:\Users\biocbuild\bbs-3.13-bioc\R\bin\R.exe CMD build --keep-empty-dirs --no-resave-data vsn StartedAt: 2021-10-14 19:06:46 -0400 (Thu, 14 Oct 2021) EndedAt: 2021-10-14 19:08:00 -0400 (Thu, 14 Oct 2021) EllapsedTime: 74.4 seconds RetCode: 0 Status: OK PackageFile: vsn_3.60.0.tar.gz PackageFileSize: 1.276 MiB