Package: vsn Version: 3.60.0 Command: C:\cygwin\bin\curl.exe -O http://155.52.207.165/BBS/3.13/bioc/src/contrib/vsn_3.60.0.tar.gz && rm -rf vsn.buildbin-libdir && mkdir vsn.buildbin-libdir && C:\Users\biocbuild\bbs-3.13-bioc\R\bin\R.exe CMD INSTALL --merge-multiarch --build --library=vsn.buildbin-libdir vsn_3.60.0.tar.gz && C:\Users\biocbuild\bbs-3.13-bioc\R\bin\R.exe CMD INSTALL vsn_3.60.0.zip && rm vsn_3.60.0.tar.gz vsn_3.60.0.zip StartedAt: 2021-10-14 08:27:55 -0400 (Thu, 14 Oct 2021) EndedAt: 2021-10-14 08:29:01 -0400 (Thu, 14 Oct 2021) EllapsedTime: 65.9 seconds RetCode: 0 Status: OK