Package: vulcan Version: 1.14.0 Command: rm -rf vulcan.buildbin-libdir && mkdir vulcan.buildbin-libdir && /Users/biocbuild/BBS/utils/build-universal.sh vulcan_1.14.0.tar.gz /Library/Frameworks/R.framework/Versions/Current/Resources/bin/R vulcan.buildbin-libdir StartedAt: 2021-10-15 04:22:15 -0400 (Fri, 15 Oct 2021) EndedAt: 2021-10-15 04:23:26 -0400 (Fri, 15 Oct 2021) EllapsedTime: 71.4 seconds RetCode: 0 Status: OK PackageFile: vulcan_1.14.0.tgz PackageFileSize: 373.5 KiB