Package: vulcan Version: 1.14.0 Command: /Library/Frameworks/R.framework/Versions/Current/Resources/bin/R CMD check --install=check:vulcan.install-out.txt --library=/Library/Frameworks/R.framework/Versions/Current/Resources/library --no-vignettes --timings vulcan_1.14.0.tar.gz StartedAt: 2021-10-15 01:11:53 -0400 (Fri, 15 Oct 2021) EndedAt: 2021-10-15 01:21:02 -0400 (Fri, 15 Oct 2021) EllapsedTime: 549.4 seconds RetCode: 0 Status: OK CheckDir: vulcan.Rcheck Warnings: 0