Package: vulcan Version: 1.14.0 Command: /home/biocbuild/bbs-3.13-bioc/R/bin/R CMD build --keep-empty-dirs --no-resave-data vulcan StartedAt: 2021-10-14 08:40:13 -0400 (Thu, 14 Oct 2021) EndedAt: 2021-10-14 08:41:46 -0400 (Thu, 14 Oct 2021) EllapsedTime: 92.7 seconds RetCode: 0 Status: OK PackageFile: vulcan_1.14.0.tar.gz PackageFileSize: 302.5 KiB