Package: vulcan Version: 1.14.0 Command: rm -rf vulcan.buildbin-libdir && mkdir vulcan.buildbin-libdir && C:\Users\biocbuild\bbs-3.13-bioc\R\bin\R.exe CMD INSTALL --merge-multiarch --build --library=vulcan.buildbin-libdir vulcan_1.14.0.tar.gz StartedAt: 2021-10-15 12:24:04 -0400 (Fri, 15 Oct 2021) EndedAt: 2021-10-15 12:25:45 -0400 (Fri, 15 Oct 2021) EllapsedTime: 101.2 seconds RetCode: 0 Status: OK PackageFile: vulcan_1.14.0.zip PackageFileSize: 410.6 KiB