Package: vulcan Version: 1.14.0 Command: C:\cygwin\bin\curl.exe -O http://155.52.207.165/BBS/3.13/bioc/src/contrib/vulcan_1.14.0.tar.gz && rm -rf vulcan.buildbin-libdir && mkdir vulcan.buildbin-libdir && C:\Users\biocbuild\bbs-3.13-bioc\R\bin\R.exe CMD INSTALL --merge-multiarch --build --library=vulcan.buildbin-libdir vulcan_1.14.0.tar.gz && C:\Users\biocbuild\bbs-3.13-bioc\R\bin\R.exe CMD INSTALL vulcan_1.14.0.zip && rm vulcan_1.14.0.tar.gz vulcan_1.14.0.zip StartedAt: 2021-10-14 11:17:34 -0400 (Thu, 14 Oct 2021) EndedAt: 2021-10-14 11:19:08 -0400 (Thu, 14 Oct 2021) EllapsedTime: 93.3 seconds RetCode: 0 Status: OK