Package: wateRmelon Version: 1.36.0 Command: rm -rf wateRmelon.buildbin-libdir && mkdir wateRmelon.buildbin-libdir && /Users/biocbuild/BBS/utils/build-universal.sh wateRmelon_1.36.0.tar.gz /Library/Frameworks/R.framework/Versions/Current/Resources/bin/R wateRmelon.buildbin-libdir StartedAt: 2021-10-15 04:22:25 -0400 (Fri, 15 Oct 2021) EndedAt: 2021-10-15 04:23:36 -0400 (Fri, 15 Oct 2021) EllapsedTime: 70.9 seconds RetCode: 0 Status: OK PackageFile: wateRmelon_1.36.0.tgz PackageFileSize: 1.374 MiB