Package: wateRmelon Version: 1.36.0 Command: /Library/Frameworks/R.framework/Versions/Current/Resources/bin/R CMD build --keep-empty-dirs --no-resave-data wateRmelon StartedAt: 2021-10-14 15:38:35 -0400 (Thu, 14 Oct 2021) EndedAt: 2021-10-14 15:40:27 -0400 (Thu, 14 Oct 2021) EllapsedTime: 111.7 seconds RetCode: 0 Status: OK PackageFile: wateRmelon_1.36.0.tar.gz PackageFileSize: 1.066 MiB