Package: wateRmelon Version: 1.36.0 Command: /home/biocbuild/bbs-3.13-bioc/R/bin/R CMD build --keep-empty-dirs --no-resave-data wateRmelon StartedAt: 2021-10-14 08:40:27 -0400 (Thu, 14 Oct 2021) EndedAt: 2021-10-14 08:41:49 -0400 (Thu, 14 Oct 2021) EllapsedTime: 81.6 seconds RetCode: 0 Status: OK PackageFile: wateRmelon_1.36.0.tar.gz PackageFileSize: 1.05 MiB