Package: wateRmelon Version: 1.36.0 Command: rm -rf wateRmelon.buildbin-libdir && mkdir wateRmelon.buildbin-libdir && C:\Users\biocbuild\bbs-3.13-bioc\R\bin\R.exe CMD INSTALL --merge-multiarch --build --library=wateRmelon.buildbin-libdir wateRmelon_1.36.0.tar.gz StartedAt: 2021-10-15 12:24:21 -0400 (Fri, 15 Oct 2021) EndedAt: 2021-10-15 12:26:02 -0400 (Fri, 15 Oct 2021) EllapsedTime: 101.1 seconds RetCode: 0 Status: OK PackageFile: wateRmelon_1.36.0.zip PackageFileSize: 1.469 MiB