Package: weaver Version: 1.58.0 Command: /home/biocbuild/bbs-3.13-bioc/R/bin/R CMD check --install=check:weaver.install-out.txt --library=/home/biocbuild/bbs-3.13-bioc/R/library --no-vignettes --timings weaver_1.58.0.tar.gz StartedAt: 2021-10-14 12:01:54 -0400 (Thu, 14 Oct 2021) EndedAt: 2021-10-14 12:02:09 -0400 (Thu, 14 Oct 2021) EllapsedTime: 14.8 seconds RetCode: 0 Status: WARNINGS CheckDir: weaver.Rcheck Warnings: 1