Package: yarn Version: 1.18.0 Command: /Library/Frameworks/R.framework/Versions/Current/Resources/bin/R CMD build --keep-empty-dirs --no-resave-data yarn StartedAt: 2021-10-14 15:42:11 -0400 (Thu, 14 Oct 2021) EndedAt: 2021-10-14 15:43:42 -0400 (Thu, 14 Oct 2021) EllapsedTime: 90.6 seconds RetCode: 0 Status: OK PackageFile: yarn_1.18.0.tar.gz PackageFileSize: 2.968 MiB