Package: yarn Version: 1.18.0 Command: /Library/Frameworks/R.framework/Versions/Current/Resources/bin/R CMD check --install=check:yarn.install-out.txt --library=/Library/Frameworks/R.framework/Versions/Current/Resources/library --no-vignettes --timings yarn_1.18.0.tar.gz StartedAt: 2021-10-15 01:17:40 -0400 (Fri, 15 Oct 2021) EndedAt: 2021-10-15 01:24:17 -0400 (Fri, 15 Oct 2021) EllapsedTime: 396.8 seconds RetCode: 0 Status: OK CheckDir: yarn.Rcheck Warnings: 0