Package: zellkonverter Version: 1.2.1 Command: C:\Users\biocbuild\bbs-3.13-bioc\R\bin\R.exe --arch x64 CMD check --no-multiarch --install=check:zellkonverter.install-out.txt --library=C:\Users\biocbuild\bbs-3.13-bioc\R\library --no-vignettes --timings zellkonverter_1.2.1.tar.gz StartedAt: 2021-10-15 07:23:38 -0400 (Fri, 15 Oct 2021) EndedAt: 2021-10-15 07:30:34 -0400 (Fri, 15 Oct 2021) EllapsedTime: 415.7 seconds RetCode: 0 Status: OK CheckDir: zellkonverter.Rcheck Warnings: 0