Package: zlibbioc Version: 1.38.0 Command: /Library/Frameworks/R.framework/Versions/Current/Resources/bin/R CMD build --keep-empty-dirs --no-resave-data zlibbioc StartedAt: 2021-10-14 15:43:05 -0400 (Thu, 14 Oct 2021) EndedAt: 2021-10-14 15:43:14 -0400 (Thu, 14 Oct 2021) EllapsedTime: 9.1 seconds RetCode: 0 Status: OK PackageFile: zlibbioc_1.38.0.tar.gz PackageFileSize: 272.2 KiB