Package: zlibbioc Version: 1.38.0 Command: chmod a+r zlibbioc -R && C:\Users\biocbuild\bbs-3.13-bioc\R\bin\R.exe CMD build --keep-empty-dirs --no-resave-data zlibbioc StartedAt: 2021-10-14 19:11:56 -0400 (Thu, 14 Oct 2021) EndedAt: 2021-10-14 19:12:17 -0400 (Thu, 14 Oct 2021) EllapsedTime: 20.9 seconds RetCode: 0 Status: OK PackageFile: zlibbioc_1.38.0.tar.gz PackageFileSize: 251.4 KiB