Back to Long Tests report for BioC 3.13

BUILD report for biodbHmdb on rex3

This page was generated on 2021-12-11 17:30:01 -0500 (Sat, 11 Dec 2021).

To the developers/maintainers of the biodbHmdb package:
Please make sure to use the following settings in order to reproduce any error or warning you see on this page.
Package 6/20HostnameOS / ArchCHECK
biodbHmdb 1.1.1  (landing page)
Pierrick Roger
Snapshot Date: 2021-12-11 09:00:01 -0500 (Sat, 11 Dec 2021)
URL: https://git.bioconductor.org/packages/biodbHmdb
Branch: master
Last Commit: 6f804d8
Last Changed Date: 2021-10-27 04:57:48 -0500 (Wed, 27 Oct 2021)
rex3Linux (Ubuntu 20.04.2 LTS) / x86_64  OK  

Summary

Package: biodbHmdb
Version: 1.1.1
Command: /home/biocbuild/bbs-3.13-bioc/R/bin/R CMD build --keep-empty-dirs --no-resave-data --no-build-vignettes --no-manual biodbHmdb
StartedAt: 2021-12-11 09:30:16 -0500 (Sat, 11 Dec 2021)
EndedAt: 2021-12-11 09:30:16 -0500 (Sat, 11 Dec 2021)
EllapsedTime: 0.3 seconds
RetCode: 0
Status:   OK  
PackageFile: biodbHmdb_1.1.1.tar.gz
PackageFileSize: 113.7 KiB

Command output

##############################################################################
##############################################################################
###
### Running command:
###
###   /home/biocbuild/bbs-3.13-bioc/R/bin/R CMD build --keep-empty-dirs --no-resave-data --no-build-vignettes --no-manual biodbHmdb
###
##############################################################################
##############################################################################


* checking for file ‘biodbHmdb/DESCRIPTION’ ... OK
* preparing ‘biodbHmdb’:
* checking DESCRIPTION meta-information ... OK
* cleaning src
* checking for LF line-endings in source and make files and shell scripts
* checking for empty or unneeded directories
* building ‘biodbHmdb_1.1.1.tar.gz’