Package: ABAData Version: 1.22.0 Command: /home/biocbuild/bbs-3.13-bioc/R/bin/R CMD check --install=check:ABAData.install-out.txt --library=/home/biocbuild/bbs-3.13-bioc/R/library --no-vignettes --timings ABAData_1.22.0.tar.gz StartedAt: 2021-10-16 12:46:34 -0400 (Sat, 16 Oct 2021) EndedAt: 2021-10-16 12:48:23 -0400 (Sat, 16 Oct 2021) EllapsedTime: 108.8 seconds RetCode: 0 Status: OK CheckDir: ABAData.Rcheck Warnings: 0